BEGIN:VCALENDAR
VERSION:2.0
PRODID:-//jEvents 2.0 for Joomla//EN
CALSCALE:GREGORIAN
METHOD:PUBLISH
BEGIN:VTIMEZONE
TZID:America/Los_Angeles
BEGIN:STANDARD
DTSTART:20231105T010000
RDATE:20240310T030000
TZOFFSETFROM:-0700
TZOFFSETTO:-0800
TZNAME:America/Los_Angeles PST
END:STANDARD
BEGIN:STANDARD
DTSTART:20241103T010000
RDATE:20250309T030000
TZOFFSETFROM:-0700
TZOFFSETTO:-0800
TZNAME:America/Los_Angeles PST
END:STANDARD
BEGIN:STANDARD
DTSTART:20251102T010000
RDATE:20260308T030000
TZOFFSETFROM:-0700
TZOFFSETTO:-0800
TZNAME:America/Los_Angeles PST
END:STANDARD
BEGIN:STANDARD
DTSTART:20261101T010000
RDATE:20270314T030000
TZOFFSETFROM:-0700
TZOFFSETTO:-0800
TZNAME:America/Los_Angeles PST
END:STANDARD
BEGIN:STANDARD
DTSTART:20271107T010000
RDATE:20280312T030000
TZOFFSETFROM:-0700
TZOFFSETTO:-0800
TZNAME:America/Los_Angeles PST
END:STANDARD
BEGIN:STANDARD
DTSTART:20281105T010000
RDATE:20290311T030000
TZOFFSETFROM:-0700
TZOFFSETTO:-0800
TZNAME:America/Los_Angeles PST
END:STANDARD
BEGIN:STANDARD
DTSTART:20291104T010000
RDATE:20300310T030000
TZOFFSETFROM:-0700
TZOFFSETTO:-0800
TZNAME:America/Los_Angeles PST
END:STANDARD
BEGIN:STANDARD
DTSTART:20301103T010000
RDATE:20310309T030000
TZOFFSETFROM:-0700
TZOFFSETTO:-0800
TZNAME:America/Los_Angeles PST
END:STANDARD
BEGIN:STANDARD
DTSTART:20311102T010000
RDATE:20320314T030000
TZOFFSETFROM:-0700
TZOFFSETTO:-0800
TZNAME:America/Los_Angeles PST
END:STANDARD
BEGIN:DAYLIGHT
DTSTART:20230910T190000
RDATE:20231105T010000
TZOFFSETFROM:-0800
TZOFFSETTO:-0700
TZNAME:America/Los_Angeles PDT
END:DAYLIGHT
BEGIN:DAYLIGHT
DTSTART:20240310T030000
RDATE:20241103T010000
TZOFFSETFROM:-0800
TZOFFSETTO:-0700
TZNAME:America/Los_Angeles PDT
END:DAYLIGHT
BEGIN:DAYLIGHT
DTSTART:20250309T030000
RDATE:20251102T010000
TZOFFSETFROM:-0800
TZOFFSETTO:-0700
TZNAME:America/Los_Angeles PDT
END:DAYLIGHT
BEGIN:DAYLIGHT
DTSTART:20260308T030000
RDATE:20261101T010000
TZOFFSETFROM:-0800
TZOFFSETTO:-0700
TZNAME:America/Los_Angeles PDT
END:DAYLIGHT
BEGIN:DAYLIGHT
DTSTART:20270314T030000
RDATE:20271107T010000
TZOFFSETFROM:-0800
TZOFFSETTO:-0700
TZNAME:America/Los_Angeles PDT
END:DAYLIGHT
BEGIN:DAYLIGHT
DTSTART:20280312T030000
RDATE:20281105T010000
TZOFFSETFROM:-0800
TZOFFSETTO:-0700
TZNAME:America/Los_Angeles PDT
END:DAYLIGHT
BEGIN:DAYLIGHT
DTSTART:20290311T030000
RDATE:20291104T010000
TZOFFSETFROM:-0800
TZOFFSETTO:-0700
TZNAME:America/Los_Angeles PDT
END:DAYLIGHT
BEGIN:DAYLIGHT
DTSTART:20300310T030000
RDATE:20301103T010000
TZOFFSETFROM:-0800
TZOFFSETTO:-0700
TZNAME:America/Los_Angeles PDT
END:DAYLIGHT
BEGIN:DAYLIGHT
DTSTART:20310309T030000
RDATE:20311102T010000
TZOFFSETFROM:-0800
TZOFFSETTO:-0700
TZNAME:America/Los_Angeles PDT
END:DAYLIGHT
END:VTIMEZONE
BEGIN:VEVENT
UID:ad253a9b93159df980e141a3d819a062
CATEGORIES:Meetings
CREATED:19691231T160000
SUMMARY:J&RR Team Meeting
LOCATION:Online. RSVP for the Zoom link
DESCRIPTION:Join us on the second Tuesday of each month as we work to build a community
  of people equipped to act for racial justice in the name of Jesus.\n
X-ALT-DESC;FMTTYPE=text/html:<p>Join us on the second Tuesday of each month as we work to build a commun
 ity of people equipped to act for racial justice in the name of Jesus.</p>
CONTACT:justice@belpres.org
DTSTAMP:20260420T012709
DTSTART;TZID=America/Los_Angeles:20240910T190000
DTEND;TZID=America/Los_Angeles:20240910T203000
SEQUENCE:0
RRULE:FREQ=MONTHLY;COUNT=10;INTERVAL=1;BYDAY=+2TU
TRANSP:OPAQUE
END:VEVENT
BEGIN:VEVENT
UID:ad253a9b93159df980e141a3d819a062
CATEGORIES:Meetings
CREATED:20240904T191600
SUMMARY:J&RR Team Meeting
LOCATION:In person at BelPres. RSVP for the room location
DESCRIPTION:We are moving our October meeting to a special day and time so that we can 
 hear from some of our BelPres youth who participated in the Heritage to Hor
 izon trip to Alabama and Georgia this summer. Dinner will be provided.\n
X-ALT-DESC;FMTTYPE=text/html:<p>We are moving our October meeting to a special day and time so that we c
 an hear from some of our BelPres youth who participated in the Heritage to 
 Horizon trip to Alabama and Georgia this summer. Dinner will be provided.</
 p>
URL;VALUE=URI:https://www.belpresjustice.org/calendar/eventdetail/549/-/j-rr-team-meeting
 ?tmpl=component
CONTACT:This email address is being protected from spambots. You need JavaScript enabled to view it.

DTSTAMP:20260420T012709
DTSTART;TZID=America/Los_Angeles:20241009T180000
DTEND;TZID=America/Los_Angeles:20241009T200000
RECURRENCE-ID;TZID=America/Los_Angeles:20241008T190000
SEQUENCE:0
TRANSP:OPAQUE
END:VEVENT
END:VCALENDAR