BEGIN:VCALENDAR
VERSION:2.0
PRODID:-//jEvents 2.0 for Joomla//EN
CALSCALE:GREGORIAN
METHOD:PUBLISH
BEGIN:VTIMEZONE
TZID:America/Los_Angeles
BEGIN:STANDARD
DTSTART:20171117T173000
RDATE:20180311T030000
TZOFFSETFROM:-0700
TZOFFSETTO:-0800
TZNAME:America/Los_Angeles PST
END:STANDARD
BEGIN:STANDARD
DTSTART:20181104T010000
RDATE:20190310T030000
TZOFFSETFROM:-0700
TZOFFSETTO:-0800
TZNAME:America/Los_Angeles PST
END:STANDARD
BEGIN:STANDARD
DTSTART:20191103T010000
RDATE:20200308T030000
TZOFFSETFROM:-0700
TZOFFSETTO:-0800
TZNAME:America/Los_Angeles PST
END:STANDARD
BEGIN:STANDARD
DTSTART:20201101T010000
RDATE:20210314T030000
TZOFFSETFROM:-0700
TZOFFSETTO:-0800
TZNAME:America/Los_Angeles PST
END:STANDARD
BEGIN:STANDARD
DTSTART:20211107T010000
RDATE:20220313T030000
TZOFFSETFROM:-0700
TZOFFSETTO:-0800
TZNAME:America/Los_Angeles PST
END:STANDARD
BEGIN:STANDARD
DTSTART:20221106T010000
RDATE:20230312T030000
TZOFFSETFROM:-0700
TZOFFSETTO:-0800
TZNAME:America/Los_Angeles PST
END:STANDARD
BEGIN:STANDARD
DTSTART:20231105T010000
RDATE:20240310T030000
TZOFFSETFROM:-0700
TZOFFSETTO:-0800
TZNAME:America/Los_Angeles PST
END:STANDARD
BEGIN:STANDARD
DTSTART:20241103T010000
RDATE:20250309T030000
TZOFFSETFROM:-0700
TZOFFSETTO:-0800
TZNAME:America/Los_Angeles PST
END:STANDARD
BEGIN:STANDARD
DTSTART:20251102T010000
RDATE:20260308T030000
TZOFFSETFROM:-0700
TZOFFSETTO:-0800
TZNAME:America/Los_Angeles PST
END:STANDARD
BEGIN:STANDARD
DTSTART:20261101T010000
RDATE:20270314T030000
TZOFFSETFROM:-0700
TZOFFSETTO:-0800
TZNAME:America/Los_Angeles PST
END:STANDARD
BEGIN:STANDARD
DTSTART:20271107T010000
RDATE:20280312T030000
TZOFFSETFROM:-0700
TZOFFSETTO:-0800
TZNAME:America/Los_Angeles PST
END:STANDARD
BEGIN:STANDARD
DTSTART:20281105T010000
RDATE:20290311T030000
TZOFFSETFROM:-0700
TZOFFSETTO:-0800
TZNAME:America/Los_Angeles PST
END:STANDARD
BEGIN:STANDARD
DTSTART:20291104T010000
RDATE:20300310T030000
TZOFFSETFROM:-0700
TZOFFSETTO:-0800
TZNAME:America/Los_Angeles PST
END:STANDARD
BEGIN:STANDARD
DTSTART:20301103T010000
RDATE:20310309T030000
TZOFFSETFROM:-0700
TZOFFSETTO:-0800
TZNAME:America/Los_Angeles PST
END:STANDARD
BEGIN:STANDARD
DTSTART:20311102T010000
RDATE:20320314T030000
TZOFFSETFROM:-0700
TZOFFSETTO:-0800
TZNAME:America/Los_Angeles PST
END:STANDARD
BEGIN:DAYLIGHT
DTSTART:20180311T030000
RDATE:20181104T010000
TZOFFSETFROM:-0800
TZOFFSETTO:-0700
TZNAME:America/Los_Angeles PDT
END:DAYLIGHT
BEGIN:DAYLIGHT
DTSTART:20190310T030000
RDATE:20191103T010000
TZOFFSETFROM:-0800
TZOFFSETTO:-0700
TZNAME:America/Los_Angeles PDT
END:DAYLIGHT
BEGIN:DAYLIGHT
DTSTART:20200308T030000
RDATE:20201101T010000
TZOFFSETFROM:-0800
TZOFFSETTO:-0700
TZNAME:America/Los_Angeles PDT
END:DAYLIGHT
BEGIN:DAYLIGHT
DTSTART:20210314T030000
RDATE:20211107T010000
TZOFFSETFROM:-0800
TZOFFSETTO:-0700
TZNAME:America/Los_Angeles PDT
END:DAYLIGHT
BEGIN:DAYLIGHT
DTSTART:20220313T030000
RDATE:20221106T010000
TZOFFSETFROM:-0800
TZOFFSETTO:-0700
TZNAME:America/Los_Angeles PDT
END:DAYLIGHT
BEGIN:DAYLIGHT
DTSTART:20230312T030000
RDATE:20231105T010000
TZOFFSETFROM:-0800
TZOFFSETTO:-0700
TZNAME:America/Los_Angeles PDT
END:DAYLIGHT
BEGIN:DAYLIGHT
DTSTART:20240310T030000
RDATE:20241103T010000
TZOFFSETFROM:-0800
TZOFFSETTO:-0700
TZNAME:America/Los_Angeles PDT
END:DAYLIGHT
BEGIN:DAYLIGHT
DTSTART:20250309T030000
RDATE:20251102T010000
TZOFFSETFROM:-0800
TZOFFSETTO:-0700
TZNAME:America/Los_Angeles PDT
END:DAYLIGHT
BEGIN:DAYLIGHT
DTSTART:20260308T030000
RDATE:20261101T010000
TZOFFSETFROM:-0800
TZOFFSETTO:-0700
TZNAME:America/Los_Angeles PDT
END:DAYLIGHT
BEGIN:DAYLIGHT
DTSTART:20270314T030000
RDATE:20271107T010000
TZOFFSETFROM:-0800
TZOFFSETTO:-0700
TZNAME:America/Los_Angeles PDT
END:DAYLIGHT
BEGIN:DAYLIGHT
DTSTART:20280312T030000
RDATE:20281105T010000
TZOFFSETFROM:-0800
TZOFFSETTO:-0700
TZNAME:America/Los_Angeles PDT
END:DAYLIGHT
BEGIN:DAYLIGHT
DTSTART:20290311T030000
RDATE:20291104T010000
TZOFFSETFROM:-0800
TZOFFSETTO:-0700
TZNAME:America/Los_Angeles PDT
END:DAYLIGHT
BEGIN:DAYLIGHT
DTSTART:20300310T030000
RDATE:20301103T010000
TZOFFSETFROM:-0800
TZOFFSETTO:-0700
TZNAME:America/Los_Angeles PDT
END:DAYLIGHT
BEGIN:DAYLIGHT
DTSTART:20310309T030000
RDATE:20311102T010000
TZOFFSETFROM:-0800
TZOFFSETTO:-0700
TZNAME:America/Los_Angeles PDT
END:DAYLIGHT
END:VTIMEZONE
BEGIN:VEVENT
UID:7feecfad958b0104c68a6c0ae34492f8
CATEGORIES:Book Studies
CREATED:20231217T124123
SUMMARY:Book Study: Raise Your Voice
LOCATION:RSVP for Location
DESCRIPTION:Kathy Khang roots our voice and identity in the image of God. Because God c
 reated us in our ethnicity and gender -- our voice is uniquely expressed th
 rough who we are. We are created to speak so we can speak up for ourselves 
 and speak out on behalf of others. Khang offers insights from faithful hero
 es who raised their voices for God's justice -- and how we can do the same 
 today -- in person -- in social media -- in organizations -- and in the pub
 lic square. This book is available in our BelPres Library -- on display in 
 the Welcome Room. Join us for a soup and bread followed by a book discussio
 n -- RSVP to <joomla-hidden-mail  is-link="1" is-email="1" first="anVzdGljZ
 Q==" last="YmVscHJlcy5vcmc=" text="anVzdGljZUBiZWxwcmVzLm9yZw==" base="" >T
 his email address is being protected from spambots. You need JavaScript ena
 bled to view it.</joomla-hidden-mail> for the address.
DTSTAMP:20260419T233150
DTSTART;TZID=America/Los_Angeles:20181118T173000
SEQUENCE:0
TRANSP:OPAQUE
END:VEVENT
END:VCALENDAR